Package: snpStats Version: 1.59.2 Command: /Library/Frameworks/R.framework/Resources/bin/R CMD build --keep-empty-dirs --no-resave-data snpStats StartedAt: 2025-10-07 17:48:25 -0400 (Tue, 07 Oct 2025) EndedAt: 2025-10-07 17:48:59 -0400 (Tue, 07 Oct 2025) EllapsedTime: 34.4 seconds RetCode: 0 Status: OK PackageFile: snpStats_1.59.2.tar.gz PackageFileSize: 7.731 MiB