Package: snpStats Version: 1.59.2 Command: rm -rf snpStats.buildbin-libdir && mkdir snpStats.buildbin-libdir && /Users/biocbuild/BBS/utils/build-universal.sh snpStats_1.59.2.tar.gz /Library/Frameworks/R.framework/Resources/bin/R snpStats.buildbin-libdir StartedAt: 2025-10-07 23:02:51 -0400 (Tue, 07 Oct 2025) EndedAt: 2025-10-07 23:03:00 -0400 (Tue, 07 Oct 2025) EllapsedTime: 8.2 seconds RetCode: 0 Status: OK PackageFile: snpStats_1.59.2.tgz PackageFileSize: 8.512 MiB