Package: snm Version: 1.59.0 Command: /home/biocbuild/bbs-3.23-bioc/R/bin/R CMD build --keep-empty-dirs --no-resave-data snm StartedAt: 2025-11-20 20:10:41 -0500 (Thu, 20 Nov 2025) EndedAt: 2025-11-20 20:12:31 -0500 (Thu, 20 Nov 2025) EllapsedTime: 110.1 seconds RetCode: 0 Status: OK PackageFile: snm_1.59.0.tar.gz PackageFileSize: 727.7 KiB