Package: snm Version: 1.57.0 Command: /Library/Frameworks/R.framework/Resources/bin/R CMD INSTALL snm StartedAt: 2025-10-12 15:09:22 -0400 (Sun, 12 Oct 2025) EndedAt: 2025-10-12 15:10:29 -0400 (Sun, 12 Oct 2025) EllapsedTime: 66.4 seconds RetCode: 0 Status: OK