Package: snm Version: 1.57.0 Command: /Library/Frameworks/R.framework/Resources/bin/R CMD build --keep-empty-dirs --no-resave-data snm StartedAt: 2025-10-12 19:20:40 -0400 (Sun, 12 Oct 2025) EndedAt: 2025-10-12 19:22:48 -0400 (Sun, 12 Oct 2025) EllapsedTime: 128.0 seconds RetCode: 0 Status: OK PackageFile: snm_1.57.0.tar.gz PackageFileSize: 726.2 KiB