Package: snm Version: 1.57.0 Command: rm -rf snm.buildbin-libdir && mkdir snm.buildbin-libdir && /Users/biocbuild/BBS/utils/build-universal.sh snm_1.57.0.tar.gz /Library/Frameworks/R.framework/Resources/bin/R snm.buildbin-libdir StartedAt: 2025-10-13 02:58:31 -0400 (Mon, 13 Oct 2025) EndedAt: 2025-10-13 02:58:43 -0400 (Mon, 13 Oct 2025) EllapsedTime: 12.7 seconds RetCode: 0 Status: OK PackageFile: snm_1.57.0.tgz PackageFileSize: 614.8 KiB