Package: snm Version: 1.57.0 Command: /Library/Frameworks/R.framework/Resources/bin/R CMD build --keep-empty-dirs --no-resave-data snm StartedAt: 2025-09-29 17:44:50 -0400 (Mon, 29 Sep 2025) EndedAt: 2025-09-29 17:45:36 -0400 (Mon, 29 Sep 2025) EllapsedTime: 45.5 seconds RetCode: 0 Status: OK PackageFile: snm_1.57.0.tar.gz PackageFileSize: 727.8 KiB