Package: snm Version: 1.57.0 Command: rm -rf snm.buildbin-libdir && mkdir snm.buildbin-libdir && /Users/biocbuild/BBS/utils/build-universal.sh snm_1.57.0.tar.gz /Library/Frameworks/R.framework/Resources/bin/R snm.buildbin-libdir StartedAt: 2025-09-30 22:57:03 -0400 (Tue, 30 Sep 2025) EndedAt: 2025-09-30 22:57:06 -0400 (Tue, 30 Sep 2025) EllapsedTime: 3.1 seconds RetCode: 0 Status: OK PackageFile: snm_1.57.0.tgz PackageFileSize: 616.7 KiB