Package: snifter Version: 1.21.0 Command: /home/biocbuild/bbs-3.23-bioc/R/bin/R CMD INSTALL snifter StartedAt: 2025-11-20 15:10:47 -0500 (Thu, 20 Nov 2025) EndedAt: 2025-11-20 15:10:57 -0500 (Thu, 20 Nov 2025) EllapsedTime: 10.2 seconds RetCode: 0 Status: OK