Package: snifter Version: 1.21.0 Command: /home/biocbuild/bbs-3.23-bioc/R/bin/R CMD build --keep-empty-dirs --no-resave-data snifter StartedAt: 2025-11-20 20:10:35 -0500 (Thu, 20 Nov 2025) EndedAt: 2025-11-20 20:11:12 -0500 (Thu, 20 Nov 2025) EllapsedTime: 37.0 seconds RetCode: 0 Status: OK PackageFile: snifter_1.21.0.tar.gz PackageFileSize: 731.4 KiB