Package: snifter Version: 1.21.0 Command: /Library/Frameworks/R.framework/Resources/bin/R CMD build --keep-empty-dirs --no-resave-data snifter StartedAt: 2025-11-20 18:47:13 -0500 (Thu, 20 Nov 2025) EndedAt: 2025-11-20 18:48:06 -0500 (Thu, 20 Nov 2025) EllapsedTime: 52.6 seconds RetCode: 0 Status: OK PackageFile: snifter_1.21.0.tar.gz PackageFileSize: 892.6 KiB