Package: snifter Version: 1.19.3 Command: rm -rf snifter.buildbin-libdir && mkdir snifter.buildbin-libdir && /Users/biocbuild/BBS/utils/build-universal.sh snifter_1.19.3.tar.gz /Library/Frameworks/R.framework/Resources/bin/R snifter.buildbin-libdir StartedAt: 2025-10-24 23:20:38 -0400 (Fri, 24 Oct 2025) EndedAt: 2025-10-24 23:20:42 -0400 (Fri, 24 Oct 2025) EllapsedTime: 4.1 seconds RetCode: 0 Status: OK PackageFile: snifter_1.19.3.tgz PackageFileSize: 903.3 KiB