Package: snapcount Version: 1.23.0 Command: /home/biocbuild/bbs-3.23-bioc/R/bin/R CMD INSTALL snapcount StartedAt: 2025-11-07 15:31:34 -0500 (Fri, 07 Nov 2025) EndedAt: 2025-11-07 15:32:00 -0500 (Fri, 07 Nov 2025) EllapsedTime: 26.0 seconds RetCode: 0 Status: OK