Package: snapcount Version: 1.23.0 Command: /home/biocbuild/bbs-3.23-bioc/R/bin/R CMD build --keep-empty-dirs --no-resave-data snapcount StartedAt: 2025-11-05 20:10:15 -0500 (Wed, 05 Nov 2025) EndedAt: 2025-11-05 20:11:49 -0500 (Wed, 05 Nov 2025) EllapsedTime: 94.1 seconds RetCode: 0 Status: OK PackageFile: snapcount_1.23.0.tar.gz PackageFileSize: 514 KiB