Package: snapcount Version: 1.21.0 Command: /Library/Frameworks/R.framework/Resources/bin/R CMD build --keep-empty-dirs --no-resave-data snapcount StartedAt: 2025-10-24 18:51:13 -0400 (Fri, 24 Oct 2025) EndedAt: 2025-10-24 18:52:58 -0400 (Fri, 24 Oct 2025) EllapsedTime: 104.9 seconds RetCode: 0 Status: OK PackageFile: snapcount_1.21.0.tar.gz PackageFileSize: 514 KiB