Package: snapcount Version: 1.21.0 Command: rm -rf snapcount.buildbin-libdir && mkdir snapcount.buildbin-libdir && /Users/biocbuild/BBS/utils/build-universal.sh snapcount_1.21.0.tar.gz /Library/Frameworks/R.framework/Resources/bin/R snapcount.buildbin-libdir StartedAt: 2025-10-25 02:05:28 -0400 (Sat, 25 Oct 2025) EndedAt: 2025-10-25 02:06:12 -0400 (Sat, 25 Oct 2025) EllapsedTime: 43.7 seconds RetCode: 0 Status: OK PackageFile: snapcount_1.21.0.tgz PackageFileSize: 621.4 KiB