Package: snapcount Version: 1.21.0 Command: /Library/Frameworks/R.framework/Resources/bin/R CMD INSTALL snapcount StartedAt: 2025-10-10 15:18:12 -0400 (Fri, 10 Oct 2025) EndedAt: 2025-10-10 15:18:25 -0400 (Fri, 10 Oct 2025) EllapsedTime: 12.9 seconds RetCode: 0 Status: OK