Package: snapcount Version: 1.21.0 Command: /Library/Frameworks/R.framework/Resources/bin/R CMD build --keep-empty-dirs --no-resave-data snapcount StartedAt: 2025-10-12 17:43:56 -0400 (Sun, 12 Oct 2025) EndedAt: 2025-10-12 17:45:07 -0400 (Sun, 12 Oct 2025) EllapsedTime: 70.8 seconds RetCode: 0 Status: OK PackageFile: snapcount_1.21.0.tar.gz PackageFileSize: 514 KiB