Package: smoppix Version: 1.1.9 Command: /Library/Frameworks/R.framework/Resources/bin/R CMD INSTALL smoppix StartedAt: 2025-10-12 15:24:54 -0400 (Sun, 12 Oct 2025) EndedAt: 2025-10-12 15:26:00 -0400 (Sun, 12 Oct 2025) EllapsedTime: 66.9 seconds RetCode: 0 Status: OK