Package: smoppix Version: 1.1.9 Command: /Library/Frameworks/R.framework/Resources/bin/R CMD build --keep-empty-dirs --no-resave-data smoppix StartedAt: 2025-10-12 19:20:29 -0400 (Sun, 12 Oct 2025) EndedAt: 2025-10-12 19:25:58 -0400 (Sun, 12 Oct 2025) EllapsedTime: 329.1 seconds RetCode: 0 Status: OK PackageFile: smoppix_1.1.9.tar.gz PackageFileSize: 5.496 MiB