Package: smoppix Version: 1.1.9 Command: rm -rf smoppix.buildbin-libdir && mkdir smoppix.buildbin-libdir && /Users/biocbuild/BBS/utils/build-universal.sh smoppix_1.1.9.tar.gz /Library/Frameworks/R.framework/Resources/bin/R smoppix.buildbin-libdir StartedAt: 2025-10-13 02:58:24 -0400 (Mon, 13 Oct 2025) EndedAt: 2025-10-13 02:59:23 -0400 (Mon, 13 Oct 2025) EllapsedTime: 58.9 seconds RetCode: 0 Status: OK PackageFile: smoppix_1.1.9.tgz PackageFileSize: 5.685 MiB