Package: smoppix Version: 1.1.10 Maintainer: Stijn Hawinkel MaintainerEmail: stijn.hawinkel at psb.ugent.be git_url: https://git.bioconductor.org/packages/smoppix git_branch: devel git_last_commit: db5e143 git_last_commit_date: 2025-10-21 11:23:35 -0400 (Tue, 21 Oct 2025)