Package: smoothclust Version: 1.7.0 Command: /home/biocbuild/bbs-3.23-bioc/R/bin/R CMD INSTALL smoothclust StartedAt: 2025-11-17 15:25:32 -0500 (Mon, 17 Nov 2025) EndedAt: 2025-11-17 15:25:54 -0500 (Mon, 17 Nov 2025) EllapsedTime: 22.1 seconds RetCode: 0 Status: OK