Package: smoothclust Version: 1.7.0 Command: /home/biocbuild/bbs-3.23-bioc/R/bin/R CMD check --install=check:smoothclust.install-out.txt --library=/home/biocbuild/bbs-3.23-bioc/R/site-library --timings smoothclust_1.7.0.tar.gz StartedAt: 2025-11-18 05:13:13 -0500 (Tue, 18 Nov 2025) EndedAt: 2025-11-18 05:18:12 -0500 (Tue, 18 Nov 2025) EllapsedTime: 298.4 seconds RetCode: 0 Status: OK CheckDir: smoothclust.Rcheck Warnings: 0