Package: smoothclust Version: 1.7.0 Command: /home/biocbuild/bbs-3.23-bioc/R/bin/R CMD build --keep-empty-dirs --no-resave-data smoothclust StartedAt: 2025-11-17 20:16:21 -0500 (Mon, 17 Nov 2025) EndedAt: 2025-11-17 20:17:29 -0500 (Mon, 17 Nov 2025) EllapsedTime: 68.1 seconds RetCode: 0 Status: OK PackageFile: smoothclust_1.7.0.tar.gz PackageFileSize: 379.4 KiB