Package: smartid Version: 1.5.0 Command: /Library/Frameworks/R.framework/Resources/bin/R CMD INSTALL smartid StartedAt: 2025-10-23 15:24:42 -0400 (Thu, 23 Oct 2025) EndedAt: 2025-10-23 15:25:14 -0400 (Thu, 23 Oct 2025) EllapsedTime: 32.3 seconds RetCode: 0 Status: OK