Package: smartid Version: 1.5.0 Command: /Library/Frameworks/R.framework/Resources/bin/R CMD build --keep-empty-dirs --no-resave-data smartid StartedAt: 2025-10-23 18:45:04 -0400 (Thu, 23 Oct 2025) EndedAt: 2025-10-23 18:46:19 -0400 (Thu, 23 Oct 2025) EllapsedTime: 75.3 seconds RetCode: 0 Status: OK PackageFile: smartid_1.5.0.tar.gz PackageFileSize: 2.014 MiB