Package: smartid Version: 1.5.0 Command: /Library/Frameworks/R.framework/Resources/bin/R CMD INSTALL smartid StartedAt: 2025-10-08 15:18:22 -0400 (Wed, 08 Oct 2025) EndedAt: 2025-10-08 15:18:31 -0400 (Wed, 08 Oct 2025) EllapsedTime: 9.7 seconds RetCode: 0 Status: OK