Package: slingshot Version: 2.17.0 Command: /home/biocbuild/bbs-3.22-bioc/R/bin/R CMD INSTALL slingshot StartedAt: 2025-10-12 15:24:13 -0400 (Sun, 12 Oct 2025) EndedAt: 2025-10-12 15:24:38 -0400 (Sun, 12 Oct 2025) EllapsedTime: 24.9 seconds RetCode: 0 Status: OK