Package: slalom Version: 1.31.0 Command: /home/biocbuild/bbs-3.22-bioc/R/bin/R CMD INSTALL slalom StartedAt: 2025-10-14 15:29:43 -0400 (Tue, 14 Oct 2025) EndedAt: 2025-10-14 15:30:37 -0400 (Tue, 14 Oct 2025) EllapsedTime: 53.9 seconds RetCode: 0 Status: OK