Package: slalom Version: 1.33.0 Command: /home/biocbuild/bbs-3.23-bioc/R/bin/R CMD INSTALL slalom StartedAt: 2025-11-23 15:30:37 -0500 (Sun, 23 Nov 2025) EndedAt: 2025-11-23 15:31:35 -0500 (Sun, 23 Nov 2025) EllapsedTime: 57.5 seconds RetCode: 0 Status: OK