Package: slalom Version: 1.33.0 Command: /home/biocbuild/bbs-3.23-bioc/R/bin/R CMD build --keep-empty-dirs --no-resave-data slalom StartedAt: 2025-11-23 20:07:43 -0500 (Sun, 23 Nov 2025) EndedAt: 2025-11-23 20:09:13 -0500 (Sun, 23 Nov 2025) EllapsedTime: 90.1 seconds RetCode: 0 Status: OK PackageFile: slalom_1.33.0.tar.gz PackageFileSize: 17.59 MiB