Package: slalom Version: 1.33.0 Command: /Library/Frameworks/R.framework/Resources/bin/R CMD INSTALL slalom StartedAt: 2025-11-13 15:12:25 -0500 (Thu, 13 Nov 2025) EndedAt: 2025-11-13 15:12:28 -0500 (Thu, 13 Nov 2025) EllapsedTime: 3.3 seconds RetCode: 1 Status: ERROR