Package: slalom Version: 1.33.0 Command: /Library/Frameworks/R.framework/Resources/bin/R CMD build --keep-empty-dirs --no-resave-data slalom StartedAt: 2025-11-13 17:44:53 -0500 (Thu, 13 Nov 2025) EndedAt: 2025-11-13 17:44:57 -0500 (Thu, 13 Nov 2025) EllapsedTime: 4.0 seconds RetCode: 1 Status: ERROR PackageFile: None PackageFileSize: NA