Package: skewr Version: 1.43.0 Command: /home/biocbuild/bbs-3.23-bioc/R/bin/R CMD INSTALL skewr StartedAt: 2025-11-21 16:02:41 -0500 (Fri, 21 Nov 2025) EndedAt: 2025-11-21 16:03:28 -0500 (Fri, 21 Nov 2025) EllapsedTime: 47.2 seconds RetCode: 0 Status: OK