Package: skewr Version: 1.43.0 Command: /Library/Frameworks/R.framework/Resources/bin/R CMD INSTALL skewr StartedAt: 2025-11-21 15:57:26 -0500 (Fri, 21 Nov 2025) EndedAt: 2025-11-21 15:58:05 -0500 (Fri, 21 Nov 2025) EllapsedTime: 38.9 seconds RetCode: 0 Status: OK