Package: skewr Version: 1.43.0 Command: /Library/Frameworks/R.framework/Resources/bin/R CMD build --keep-empty-dirs --no-resave-data skewr StartedAt: 2025-11-23 18:50:57 -0500 (Sun, 23 Nov 2025) EndedAt: 2025-11-23 18:53:37 -0500 (Sun, 23 Nov 2025) EllapsedTime: 159.9 seconds RetCode: 0 Status: OK PackageFile: skewr_1.43.0.tar.gz PackageFileSize: 766.3 KiB