Package: skewr Version: 1.43.0 Command: /Library/Frameworks/R.framework/Resources/bin/R CMD INSTALL skewr StartedAt: 2025-11-20 15:32:14 -0500 (Thu, 20 Nov 2025) EndedAt: 2025-11-20 15:32:32 -0500 (Thu, 20 Nov 2025) EllapsedTime: 17.6 seconds RetCode: 0 Status: OK