Package: skewr Version: 1.43.0 Command: /Library/Frameworks/R.framework/Resources/bin/R CMD build --keep-empty-dirs --no-resave-data skewr StartedAt: 2025-11-20 17:43:44 -0500 (Thu, 20 Nov 2025) EndedAt: 2025-11-20 17:44:54 -0500 (Thu, 20 Nov 2025) EllapsedTime: 70.8 seconds RetCode: 0 Status: OK PackageFile: skewr_1.43.0.tar.gz PackageFileSize: 766.9 KiB