Package: sketchR Version: 1.7.0 Command: /home/biocbuild/bbs-3.23-bioc/R/bin/R CMD INSTALL sketchR StartedAt: 2025-11-03 15:15:19 -0500 (Mon, 03 Nov 2025) EndedAt: 2025-11-03 15:15:33 -0500 (Mon, 03 Nov 2025) EllapsedTime: 14.5 seconds RetCode: 0 Status: OK