Package: sketchR Version: 1.7.0 Command: /home/biocbuild/bbs-3.23-bioc/R/bin/R CMD check --install=check:sketchR.install-out.txt --library=/home/biocbuild/bbs-3.23-bioc/R/site-library --timings sketchR_1.7.0.tar.gz StartedAt: 2025-11-07 03:51:22 -0500 (Fri, 07 Nov 2025) EndedAt: 2025-11-07 03:57:15 -0500 (Fri, 07 Nov 2025) EllapsedTime: 353.5 seconds RetCode: 0 Status: OK CheckDir: sketchR.Rcheck Warnings: 0