Package: sketchR Version: 1.7.0 Command: /home/biocbuild/bbs-3.23-bioc/R/bin/R CMD build --keep-empty-dirs --no-resave-data sketchR StartedAt: 2025-11-03 19:59:11 -0500 (Mon, 03 Nov 2025) EndedAt: 2025-11-03 20:02:32 -0500 (Mon, 03 Nov 2025) EllapsedTime: 201.2 seconds RetCode: 0 Status: OK PackageFile: sketchR_1.7.0.tar.gz PackageFileSize: 2.292 MiB