Package: sketchR Version: 1.5.2 Command: /Library/Frameworks/R.framework/Resources/bin/R CMD check --install=check:sketchR.install-out.txt --library=/Library/Frameworks/R.framework/Resources/library --no-vignettes --timings sketchR_1.5.2.tar.gz StartedAt: 2025-10-24 22:09:57 -0400 (Fri, 24 Oct 2025) EndedAt: 2025-10-24 22:10:59 -0400 (Fri, 24 Oct 2025) EllapsedTime: 61.7 seconds RetCode: 0 Status: OK CheckDir: sketchR.Rcheck Warnings: 0