Package: sizepower Version: 1.81.0 Command: /home/biocbuild/bbs-3.23-bioc/R/bin/R CMD INSTALL sizepower StartedAt: 2025-11-03 15:02:01 -0500 (Mon, 03 Nov 2025) EndedAt: 2025-11-03 15:02:06 -0500 (Mon, 03 Nov 2025) EllapsedTime: 4.8 seconds RetCode: 0 Status: OK