Package: sizepower Version: 1.81.0 Command: /home/biocbuild/bbs-3.23-bioc/R/bin/R CMD build --keep-empty-dirs --no-resave-data sizepower StartedAt: 2025-11-03 19:59:06 -0500 (Mon, 03 Nov 2025) EndedAt: 2025-11-03 19:59:11 -0500 (Mon, 03 Nov 2025) EllapsedTime: 5.0 seconds RetCode: 0 Status: OK PackageFile: sizepower_1.81.0.tar.gz PackageFileSize: 295.9 KiB