Package: sizepower Version: 1.81.0 Command: /Library/Frameworks/R.framework/Resources/bin/R CMD INSTALL sizepower StartedAt: 2025-11-21 15:10:03 -0500 (Fri, 21 Nov 2025) EndedAt: 2025-11-21 15:10:16 -0500 (Fri, 21 Nov 2025) EllapsedTime: 13.0 seconds RetCode: 0 Status: OK