Package: sizepower Version: 1.81.0 Command: rm -rf sizepower.buildbin-libdir && mkdir sizepower.buildbin-libdir && /Users/biocbuild/BBS/utils/build-universal.sh sizepower_1.81.0.tar.gz /Library/Frameworks/R.framework/Resources/bin/R sizepower.buildbin-libdir StartedAt: 2025-11-22 01:58:39 -0500 (Sat, 22 Nov 2025) EndedAt: 2025-11-22 01:58:47 -0500 (Sat, 22 Nov 2025) EllapsedTime: 7.8 seconds RetCode: 0 Status: OK PackageFile: sizepower_1.81.0.tgz PackageFileSize: 314.2 KiB