Package: sizepower Version: 1.81.0 Command: /Library/Frameworks/R.framework/Resources/bin/R CMD build --keep-empty-dirs --no-resave-data sizepower StartedAt: 2025-11-21 17:41:12 -0500 (Fri, 21 Nov 2025) EndedAt: 2025-11-21 17:41:17 -0500 (Fri, 21 Nov 2025) EllapsedTime: 5.1 seconds RetCode: 0 Status: OK PackageFile: sizepower_1.81.0.tar.gz PackageFileSize: 295.8 KiB