Package: sitePath Version: 1.27.0 Command: /home/biocbuild/bbs-3.23-bioc/R/bin/R CMD INSTALL sitePath StartedAt: 2025-11-07 15:10:51 -0500 (Fri, 07 Nov 2025) EndedAt: 2025-11-07 15:11:34 -0500 (Fri, 07 Nov 2025) EllapsedTime: 42.8 seconds RetCode: 0 Status: OK