Package: sitePath Version: 1.27.0 Command: /home/biocbuild/bbs-3.23-bioc/R/bin/R CMD build --keep-empty-dirs --no-resave-data sitePath StartedAt: 2025-11-07 20:04:46 -0500 (Fri, 07 Nov 2025) EndedAt: 2025-11-07 20:05:47 -0500 (Fri, 07 Nov 2025) EllapsedTime: 61.1 seconds RetCode: 0 Status: OK PackageFile: sitePath_1.27.0.tar.gz PackageFileSize: 1.218 MiB